BEGIN:VCALENDAR
VERSION:2.0
PRODID:-//ChamberMaster//Event Calendar 2.0//EN
METHOD:PUBLISH
X-PUBLISHED-TTL:P3D
REFRESH-INTERVAL:P3D
CALSCALE:GREGORIAN
BEGIN:VEVENT
DTSTART:20200604T180000Z
DTEND:20200604T190000Z
X-MICROSOFT-CDO-ALLDAYEVENT:FALSE
SUMMARY:Legislative Update - What Passed. What Didn't
DESCRIPTION:The Kentucky Chamber of Commerce wrap-up of the 2020 Kentucky General Assembly and what it means to businesses will be discussed with Travis T. Burton\, Director of Political Affairs at the Kentucky Chamber on June 4\, 2020 at 2:00pm via ZOOM as part of the Frankfort Area Chamber?s Governmental Affairs Legislative Update. During our webinar\, Travis will provide updates on what top priorities passed and which ones were left on the table in 2020. He will also update area businesses on what the Kentucky Chamber will continue to work on for the 2021 General Assembly.
X-ALT-DESC;FMTTYPE=text/html:The Kentucky Chamber of Commerce wrap-up of the 2020 Kentucky General Assembly and what it means to businesses will be discussed with Travis T. Burton\, Director of Political Affairs at the Kentucky Chamber on June 4\, 2020 at 2:00pm via ZOOM as part of the Frankfort Area Chamber?s Governmental Affairs Legislative Update. During our webinar\, Travis will provide updates on what top priorities passed and which ones were left on the table in 2020. He will also update area businesses on what the Kentucky Chamber will continue to work on for the 2021 General Assembly.
LOCATION:The Kentucky Chamber of Commerce wrap-up of the 2020 Kentucky General Assembly and what it means to businesses will be discussed with Travis T. Burton\, Director of Political Affairs at the Kentucky Chamber on June 4\, 2020 at 2:00pm via ZOOM as part of the Frankfort Area Chamber?s Governmental Affairs Legislative Update. During our webinar\, Travis will provide updates on what top priorities passed and which ones were left on the table in 2020. He will also update area businesses on what the Kentucky Chamber will continue to work on for the 2021 General Assembly.
UID:e.1786.3541
SEQUENCE:3
DTSTAMP:20260424T133740Z
URL:https://members.frankfortky.info/events/details/legislative-update-what-passed-what-didn-t-3541
END:VEVENT

END:VCALENDAR
