BEGIN:VCALENDAR
VERSION:2.0
PRODID:-//ChamberMaster//Event Calendar 2.0//EN
METHOD:PUBLISH
X-PUBLISHED-TTL:P3D
REFRESH-INTERVAL:P3D
CALSCALE:GREGORIAN
BEGIN:VEVENT
DTSTART:20191003T203000Z
DTEND:20191003T223000Z
X-MICROSOFT-CDO-ALLDAYEVENT:FALSE
SUMMARY:Liberty Hall Business After Hours
DESCRIPTION:Join us for an evening of business networking @ the Historic Liberty Hall.
X-ALT-DESC;FMTTYPE=text/html:Join us for an evening of business networking @ the Historic Liberty Hall.
LOCATION:202 Wilkenson Street Frankfort\, Kentucky 40601
UID:e.1786.3165
SEQUENCE:3
DTSTAMP:20260425T034357Z
URL:https://members.frankfortky.info/events/details/liberty-hall-business-after-hours-3165
END:VEVENT

END:VCALENDAR
