BEGIN:VCALENDAR
VERSION:2.0
PRODID:-//ChamberMaster//Event Calendar 2.0//EN
METHOD:PUBLISH
X-PUBLISHED-TTL:P3D
REFRESH-INTERVAL:P3D
CALSCALE:GREGORIAN
BEGIN:VEVENT
DTSTART:20181008T173000Z
DTEND:20181008T210000Z
X-MICROSOFT-CDO-ALLDAYEVENT:FALSE
SUMMARY:Liberty Hall Historic Site
DESCRIPTION:Come See Us National Historic Landmark and home of Kentucky's first senator
X-ALT-DESC;FMTTYPE=text/html:Come See Us National Historic Landmark and home of Kentucky&#39\;s first senator
LOCATION:218 Wilkinson Street
UID:e.1786.1102
SEQUENCE:3
DTSTAMP:20260426T000241Z
URL:https://members.frankfortky.info/events/details/liberty-hall-historic-site-10-08-2018-1102
END:VEVENT

END:VCALENDAR
