BEGIN:VCALENDAR
VERSION:2.0
PRODID:-//ChamberMaster//Event Calendar 2.0//EN
METHOD:PUBLISH
X-PUBLISHED-TTL:P3D
REFRESH-INTERVAL:P3D
CALSCALE:GREGORIAN
BEGIN:VEVENT
DTSTART:20240627T160000Z
DTEND:20240627T170000Z
X-MICROSOFT-CDO-ALLDAYEVENT:FALSE
SUMMARY:Lunch and Learn - Alzheimer's Association
DESCRIPTION:Join us to learn about the 10 warning signs of Alzheimer's. Speakers include Meredith Plant and Dr. Peter Smith.
X-ALT-DESC;FMTTYPE=text/html:Join us to learn about the 10 warning signs of Alzheimer&#39\;s. Speakers include Meredith Plant and Dr. Peter Smith.&nbsp\;
LOCATION:484 Chenault Road Frankfort\, KY
UID:e.1786.4527
SEQUENCE:3
DTSTAMP:20260421T225659Z
URL:https://members.frankfortky.info/events/details/lunch-and-learn-alzheimer-s-association-4527
END:VEVENT

END:VCALENDAR
