BEGIN:VCALENDAR
VERSION:2.0
PRODID:-//ChamberMaster//Event Calendar 2.0//EN
METHOD:PUBLISH
X-PUBLISHED-TTL:P3D
REFRESH-INTERVAL:P3D
CALSCALE:GREGORIAN
BEGIN:VEVENT
DTSTART:20240916T153000Z
DTEND:20240916T170000Z
X-MICROSOFT-CDO-ALLDAYEVENT:FALSE
SUMMARY:Lunch Bunch at Prodigy Vineyard & Winery
DESCRIPTION:
X-ALT-DESC;FMTTYPE=text/html:
LOCATION:Prodigy Vineyard & Winery 4686 Versailles Road Frankfort\, Ky 40601
UID:e.1786.5501
SEQUENCE:3
DTSTAMP:20260419T150651Z
URL:https://members.frankfortky.info/events/details/lunch-bunch-at-prodigy-vineyard-winery-5501
END:VEVENT

END:VCALENDAR
