BEGIN:VCALENDAR
VERSION:2.0
PRODID:-//ChamberMaster//Event Calendar 2.0//EN
METHOD:PUBLISH
X-PUBLISHED-TTL:P3D
REFRESH-INTERVAL:P3D
CALSCALE:GREGORIAN
BEGIN:VEVENT
DTSTART:20181002T183000Z
DTEND:20181002T193000Z
X-MICROSOFT-CDO-ALLDAYEVENT:FALSE
SUMMARY:Lunch for a Bear
DESCRIPTION:Identify the kinds of foods that black bears eat by creating a plate of "bear food".
X-ALT-DESC;FMTTYPE=text/html:Identify the kinds of foods that black bears eat by creating a plate of &quot\;bear food&quot\;.&nbsp\;&nbsp\;&nbsp\;&nbsp\;
LOCATION:Salato Wildlife Education Center 1 Sportsman Lane Frankfort\, KY 40601
UID:e.1786.3036
SEQUENCE:3
DTSTAMP:20260426T003530Z
URL:https://members.frankfortky.info/events/details/lunch-for-a-bear-3036
END:VEVENT

END:VCALENDAR
