BEGIN:VCALENDAR
VERSION:2.0
PRODID:-//ChamberMaster//Event Calendar 2.0//EN
METHOD:PUBLISH
X-PUBLISHED-TTL:P3D
REFRESH-INTERVAL:P3D
CALSCALE:GREGORIAN
BEGIN:VEVENT
DTSTART:20181129T170000Z
DTEND:20181129T181500Z
X-MICROSOFT-CDO-ALLDAYEVENT:FALSE
SUMMARY:Lunch & Learn - Cybersecurity "How Safe Are You Online"
DESCRIPTION:Whether you are a small business\, corporate office\, local restaurant\, healthcare provider\, or government agency   your organization's online safety and security are a responsibility we all share.   The Frankfort Area Chamber of Commerce\, Bluegrass Small Business Development Center and U.S. Small Business Administration have come together to provide our November 29   Cybersecurity .How Safe are You Online?  Lunch & Learn program.  During our luncheon\, we will focus on cybersecurity awareness while emphasizing risk management\, and protection of your business\, employees and your customers against the most prevalent threats
X-ALT-DESC;FMTTYPE=text/html:<span style="font-size:11px\;"><span style="font-family:arial\;">Whether you are a small business\, corporate office\, </span></span><span style="font-family:calibri\,sans-serif\;"><span style="font-size:11.0pt\;"><span style="font-size:11px\;"><span style="font-family:arial\;">local</span></span></span></span><span style="font-size:11px\;"><span style="font-family:arial\;"> restaurant\, healthcare provider\, or government agency &ndash\; your organization&rsquo\;s online safety and security are a responsibility we all share.&nbsp\; &nbsp\;The Frankfort Area Chamber of Commerce\, Bluegrass Small Business Development Center and U.S. Small Business Administration have come together to provide our November 29 &ndash\; Cybersecurity&hellip\;.How Safe are You Online? &nbsp\;Lunch &amp\; Learn program.&nbsp\; During our luncheon\, we will focus on cybersecurity awareness while emphasizing risk management\, and protection of your business\, employees and your customers against the most prevalent threats</span></span>
LOCATION:Paul Sawyier Public Library Wapping Street or LIVE WEBINAR
UID:e.1786.3053
SEQUENCE:3
DTSTAMP:20260425T215127Z
URL:https://members.frankfortky.info/events/details/lunch-learn-cybersecurity-how-safe-are-you-online-3053
END:VEVENT

END:VCALENDAR
