BEGIN:VCALENDAR
VERSION:2.0
PRODID:-//ChamberMaster//Event Calendar 2.0//EN
METHOD:PUBLISH
X-PUBLISHED-TTL:P3D
REFRESH-INTERVAL:P3D
CALSCALE:GREGORIAN
BEGIN:VEVENT
DTSTART:20190117T163000Z
DTEND:20190117T181500Z
X-MICROSOFT-CDO-ALLDAYEVENT:FALSE
SUMMARY:Lunch & Learn - FRMC CEO Reed Hammond
DESCRIPTION:Frankfort Area Chamber \n\nMember Network Luncheon\n\nwith Frankfort Regional Medical Center\n\nCEO\, Reed Hammond\n\n \n\nThursday\, January 17\, 2019\n\n11:30am - 1:30pm\n\nFrankfort Medical Pavilion (next to the hospital)\n\nConference Room C (2nd Floor)\n\n279 King's Daughters Drive\, Frankfort\n\n \n\nThe Frankfort Area Chamber and our Luncheon Sponsor Frankfort Regional Medical Center invites you to join us for a membership luncheon while getting the chance to meet new hospital CEO Reed Hammond.\n\n \n\nReed Hammond\, a native of Hattiesburg\, Mississippi\, was appointed Chief Executive Officer of Frankfort Regional Medical Center in December 2018. Come and learn more about Reed and his goals for the hospital.
X-ALT-DESC;FMTTYPE=text/html:<span style="font-weight:bold\;"><span style="font-size:14pt\;">Frankfort Area Chamber </span></span><br />\n<span style="font-weight:bold\;"><span style="font-size:14pt\;">Member Network Luncheon</span></span><br />\n<span style="font-weight:bold\;">with&nbsp\;</span><span style="font-weight:bold\;"><span style="color:#cc0000\;"><span style="font-size:14pt\;">Frankfort Regional Medical Center</span></span></span><br />\n<span style="font-weight:bold\;"><span style="color:#cc0000\;"><span style="font-size:14pt\;">CEO\, Reed Hammond</span></span></span><br />\n&nbsp\;<br />\n<span style="font-weight:bold\;">Thursday\, January 17\, 2019</span><br />\n<span style="font-weight:bold\;">11:30am - 1:30pm</span><br />\nFrankfort Medical Pavilion (next to the hospital)<br />\nConference Room C (2<sup>nd</sup> Floor)<br />\n279 King&rsquo\;s Daughters Drive\, Frankfor<span style="language:en-US\;"><span style="font-family:tahoma\;"><span style="font-size:10.0pt\;">t</span></span></span><br />\n&nbsp\;<br />\n<span style="font-size:11pt\;">The Frankfort Area Chamber and our Luncheon Sponsor Frankfort Regional Medical Center invites you to join us for a membership luncheon while getting the chance to meet new hospital CEO Reed Hammond.</span><br />\n&nbsp\;<br />\n<span style="font-size:11pt\;">Reed Hammond\, a native of Hattiesburg\, Mississippi\, was appointed Chief Executive Officer of Frankfort Regional Medical Center </span><span style="font-size:11pt\;">in December 2018. Come and learn more about Reed and his goals for the hospital</span><span style="font-size:11pt\;">.</span><br />\n&nbsp\;
LOCATION:Frankfort Medical Pavilion (next to the hospital) Conference Room C (2nd Floor) 279 King's Daughters Drive\, Frankfort
UID:e.1786.3067
SEQUENCE:3
DTSTAMP:20260425T184421Z
URL:https://members.frankfortky.info/events/details/lunch-learn-frmc-ceo-reed-hammond-3067
END:VEVENT

END:VCALENDAR
