BEGIN:VCALENDAR
VERSION:2.0
PRODID:-//ChamberMaster//Event Calendar 2.0//EN
METHOD:PUBLISH
X-PUBLISHED-TTL:P3D
REFRESH-INTERVAL:P3D
CALSCALE:GREGORIAN
BEGIN:VEVENT
DTSTART:20190219T170000Z
DTEND:20190219T181500Z
X-MICROSOFT-CDO-ALLDAYEVENT:FALSE
SUMMARY:Lunch & Learn Series - Farmer's Market & Your Business
DESCRIPTION:Please plan on joining the Frankfort Area Chamber and Franklin County Farmer's Market\, Lisa Munniksma as we learn about the new  Farm to Frankfort workplace delivery program that began this year. It's essentially an online farmers market that we opened up to just four workplaces. Once a week\, we delivered employees' orders to them at work. In 2019\, we'd like to expand the program's reach to six workplaces and love to share this information with local businesses.
X-ALT-DESC;FMTTYPE=text/html:<span style="font-family:times new roman\,serif\;"><span style="font-size:12.0pt\;">Please plan on joining the Frankfort Area Chamber and Franklin County Farmer&#39\;s Market\, Lisa Munniksma as we learn about the new&nbsp\; Farm to Frankfort workplace delivery program that began this year. It&#39\;s essentially an online farmers market that we opened up to just four workplaces. Once a week\, we delivered employees&#39\; orders to them at work. In 2019\, we&#39\;d like to expand the program&#39\;s reach to six workplaces and love to share this information with local businesses.</span></span>
LOCATION:Frankfort Area Chamber Office 100 Capital Avenue Frankfort
UID:e.1786.3065
SEQUENCE:3
DTSTAMP:20260425T164523Z
URL:https://members.frankfortky.info/events/details/lunch-learn-series-farmer-s-market-your-business-3065
END:VEVENT

END:VCALENDAR
