BEGIN:VCALENDAR
VERSION:2.0
PRODID:-//ChamberMaster//Event Calendar 2.0//EN
METHOD:PUBLISH
X-PUBLISHED-TTL:P3D
REFRESH-INTERVAL:P3D
CALSCALE:GREGORIAN
BEGIN:VEVENT
DTSTART:20180717T160000Z
DTEND:20180717T170000Z
X-MICROSOFT-CDO-ALLDAYEVENT:FALSE
SUMMARY:Lunch & Learn Series Small Business Options
DESCRIPTION:Please mark your calendars and plan to attend our upcoming Lunch & Learn Series.  All luncheons are brown bag and will be held at the Chamber office beginning at 12:00noon.  Please RSVP your attendance to office@frankfortky.info or by calling 502.223.8261\n \n\nJuly 17 from 12   1 pm:\n\nSmall Business Options: Start\, Buy or Franchise   Oh My!\n\nThis 1-hour brown bag Lunch & Learn will address the many small business options available\, including starting a business\, purchasing an existing company or owning a franchise\, and the resources you can use to determine what fits best for your goals and personality. Handouts are provided. Presenters: SBA\, Bluegrass SBDC and FranNet of MidAmerica.
X-ALT-DESC;FMTTYPE=text/html:<span style="font-family:calibri\,sans-serif\;"><span style="font-size:12pt\;">Please mark your calendars and plan to attend our upcoming Lunch &amp\; Learn Series.&nbsp\; All luncheons are brown bag and will be held at the Chamber office beginning at 12:00noon.&nbsp\; Please RSVP your attendance to <a href="mailto:office@frankfortky.info">office@frankfortky.info</a> or by calling 502.223.8261</span></span>\n<div>&nbsp\;</div>\n\n<div><span style="font-size:14px\;"><span style="color:#1F497D\;">July 17 from 12 &ndash\; 1 pm:</span><br />\n<strong><span style="color:#1F497D\;">Small Business Options: Start\, Buy or Franchise &ndash\; Oh My!</span></strong><br />\n<span style="color:#1F497D\;">This 1-hour brown bag Lunch &amp\; Learn will address the many small business options available\, including starting a business\, purchasing an existing company or owning a franchise\, and the resources you can use to determine what fits best for your goals and personality. Handouts are provided. Presenters: SBA\, Bluegrass SBDC and FranNet of MidAmerica.</span></span><br />\n&nbsp\;</div>\n
LOCATION:Frankfort Area Chamber office 100 Capital Avenue Frankfort
UID:e.1786.2936
SEQUENCE:3
DTSTAMP:20260426T040823Z
URL:https://members.frankfortky.info/events/details/lunch-learn-series-small-business-options-2936
END:VEVENT

END:VCALENDAR
