BEGIN:VCALENDAR
VERSION:2.0
PRODID:-//ChamberMaster//Event Calendar 2.0//EN
METHOD:PUBLISH
X-PUBLISHED-TTL:P3D
REFRESH-INTERVAL:P3D
CALSCALE:GREGORIAN
BEGIN:VEVENT
DTSTART:20180927T210000Z
DTEND:20181018T220000Z
X-MICROSOFT-CDO-ALLDAYEVENT:FALSE
SUMMARY:March Drawing Class Completely Kentucky
DESCRIPTION:Jaques Art Studio will have 3 sessions each lasting 3 weeks of drawing classes. These classes will be for all levels and can be taken together or separate. We will be teaching techniques from drawing from the right side of the brain. These classes are for beginners or experienced drawers looking for practice \, critique and new methods to improve drawing and creativity.
X-ALT-DESC;FMTTYPE=text/html:Jaques Art Studio will have 3 sessions each lasting 3 weeks of drawing&nbsp\;classes. These classes will be for all levels and can be taken together or separate. We will be teaching techniques from drawing from the right side of the brain. These classes are for beginners or experienced&nbsp\;drawers looking for practice&nbsp\;\, critique and new methods to improve drawing and creativity.&nbsp\;
LOCATION:Jaques Art Studio
UID:e.1786.1627
SEQUENCE:3
DTSTAMP:20260426T003952Z
URL:https://members.frankfortky.info/events/details/march-drawing-class-completely-kentucky-09-27-2018-1627
END:VEVENT

END:VCALENDAR
