BEGIN:VCALENDAR
VERSION:2.0
PRODID:-//ChamberMaster//Event Calendar 2.0//EN
METHOD:PUBLISH
X-PUBLISHED-TTL:P3D
REFRESH-INTERVAL:P3D
CALSCALE:GREGORIAN
BEGIN:VEVENT
DTSTART:20240521T203000Z
DTEND:20240521T213000Z
X-MICROSOFT-CDO-ALLDAYEVENT:FALSE
SUMMARY:May Maximize Your Membership
DESCRIPTION:Maximize Your Membership will put you on the road to success. We want to make sure you are leveraging your chamber membership to meet the needs of your business and professional goals. Breakfast or Appetizers are provided\, depending on what session you attend\, by our sponsor-First Federal Savings Bank.\n\nThis is perfect for potential\, new or existing members looking for a refresher course in making the most of their membership.
X-ALT-DESC;FMTTYPE=text/html:<span class="JsGRdQ" style="color: rgb(34\, 34\, 34)\;">Maximize Your Membership will put you on the road to success. We want to make sure you are leveraging your chamber membership to meet the needs of your business and professional goals. Breakfast or Appetizers are provided\, depending on what session you attend\, by our sponsor-First Federal Savings Bank.<br />\nThis is perfect for potential\, new or existing members looking for a refresher course in making the most of their membership.</span>
LOCATION:First Federal Savings Bank 216 W. Main Street 2nd floor boardroom Free Parking\, compliments of First Federal\, is provided in the Public Garage located at 100 Ann Street. Enter the garage from Ann Street. First Federal parking is located on the first incline on the right.
UID:e.1786.4350
SEQUENCE:3
DTSTAMP:20260424T095848Z
URL:https://members.frankfortky.info/events/details/may-maximize-your-membership-05-14-2024-4350
END:VEVENT

END:VCALENDAR
