BEGIN:VCALENDAR
VERSION:2.0
PRODID:-//ChamberMaster//Event Calendar 2.0//EN
METHOD:PUBLISH
X-PUBLISHED-TTL:P3D
REFRESH-INTERVAL:P3D
CALSCALE:GREGORIAN
BEGIN:VEVENT
DTSTART:20180711T160000Z
DTEND:20180711T170000Z
X-MICROSOFT-CDO-ALLDAYEVENT:FALSE
SUMMARY:Membership Luncheon - Kentucky Talent Pipeline Management System
DESCRIPTION:The Workforce Center is hitting the road this summer to introduce the resources now available to employers through Kentucky's Talent Pipeline Management (TPM) System. Workforce Center Executive Director Beth Davisson  will be in Frankfort on Wednesday\, July 11\, to share with area businesses and teachers about this great new initiative. Cost is  $15 to attend.
X-ALT-DESC;FMTTYPE=text/html:The Workforce Center is hitting the road this summer to introduce the resources now available to employers through Kentucky&#39\;s Talent Pipeline Management (TPM) System. Workforce Center Executive Director Beth Davisson&nbsp\; will be in Frankfort on Wednesday\, July 11\, to share with area businesses and teachers about this great new initiative. Cost is&nbsp\; $15 to attend.
LOCATION:Frankfort Plant Board 151 Flynn Avenue
UID:e.1786.2998
SEQUENCE:3
DTSTAMP:20260426T041150Z
URL:https://members.frankfortky.info/events/details/membership-luncheon-kentucky-talent-pipeline-management-system-2998
END:VEVENT

END:VCALENDAR
