BEGIN:VCALENDAR
VERSION:2.0
PRODID:-//ChamberMaster//Event Calendar 2.0//EN
METHOD:PUBLISH
X-PUBLISHED-TTL:P3D
REFRESH-INTERVAL:P3D
CALSCALE:GREGORIAN
BEGIN:VEVENT
DTSTART:20200120T150000Z
DTEND:20200120T190000Z
X-MICROSOFT-CDO-ALLDAYEVENT:FALSE
SUMMARY:MLK Day Celebration
DESCRIPTION:Celebrate Martin Luther King Jr. Day of Service at the Kentucky History Center and Museums! We will have: -Hands-on museum activities -A community art project -Special performances -A volunteer fair with local organizations Free admission! Contact 502-564-1792 or khseducation@ky.gov for more information.
X-ALT-DESC;FMTTYPE=text/html:Celebrate Martin Luther King Jr. Day of Service at the Kentucky History Center and Museums! We will have: -Hands-on museum activities -A community art project -Special performances -A volunteer fair with local organizations Free admission! Contact 502-564-1792 or khseducation@ky.gov for more information.
LOCATION:Thomas D. Clark Center for Kentucky History 100 W Broadway St\, Frankfort
UID:e.1786.3338
SEQUENCE:3
DTSTAMP:20260424T223723Z
URL:https://members.frankfortky.info/events/details/mlk-day-celebration-3338
END:VEVENT

END:VCALENDAR
