BEGIN:VCALENDAR
VERSION:2.0
PRODID:-//ChamberMaster//Event Calendar 2.0//EN
METHOD:PUBLISH
X-PUBLISHED-TTL:P3D
REFRESH-INTERVAL:P3D
CALSCALE:GREGORIAN
BEGIN:VEVENT
DTSTART:20201116T223000Z
DTEND:20201207T233000Z
X-MICROSOFT-CDO-ALLDAYEVENT:FALSE
SUMMARY:Monday Makers Series
DESCRIPTION:Meet at Josephine Sculpture Park on Monday Nights (4 each month) to explore hands on art making. Each month features a new theme ranging from color\, materials\, sculptors\, styles\, content and more.\n\nMarch Series:Includes drawing with color\, No black and white here. we will experiment with famous artist mixing techniques of mixing colors with drawing techniques.  All drawing levels welcomed.
X-ALT-DESC;FMTTYPE=text/html:Meet at Josephine Sculpture Park on Monday Nights (4 each month) to explore hands on art making. Each month features a new theme ranging from color\, materials\, sculptors\, styles\, content and more.<br />\nMarch Series:Includes drawing with color\, No black and white here. we will experiment with famous artist mixing techniques of mixing colors with drawing techniques.&nbsp\;&nbsp\;All drawing levels welcomed.
LOCATION:Josephine Sculpture Park
UID:e.1786.1539
SEQUENCE:3
DTSTAMP:20260424T031335Z
URL:https://members.frankfortky.info/events/details/monday-makers-series-11-16-2020-1539
END:VEVENT

END:VCALENDAR
