BEGIN:VCALENDAR
VERSION:2.0
PRODID:-//ChamberMaster//Event Calendar 2.0//EN
METHOD:PUBLISH
X-PUBLISHED-TTL:P3D
REFRESH-INTERVAL:P3D
CALSCALE:GREGORIAN
BEGIN:VEVENT
DTSTART:20190413T170000Z
DTEND:20190413T200000Z
X-MICROSOFT-CDO-ALLDAYEVENT:FALSE
SUMMARY:National Volunteer Fair
DESCRIPTION:National Volunteer Week\, we at the Paul Sawyier Public Library will host a Volunteer Fair on Saturday\, April 13\, from 1pm-4pm in the River Room
X-ALT-DESC;FMTTYPE=text/html:<span style="font-family:times new roman\,serif\;"><span style="font-size:12.0pt\;">National Volunteer Week\, we at the Paul Sawyier Public Library will host a Volunteer Fair on Saturday\, April 13\, from 1pm-4pm in the River Room</span></span>
LOCATION:Paul Sawyier Public Library Wapping Street Frankfort KY 40601
UID:e.1786.3091
SEQUENCE:3
DTSTAMP:20260425T144150Z
URL:https://members.frankfortky.info/events/details/national-volunteer-fair-3091
END:VEVENT

END:VCALENDAR
