BEGIN:VCALENDAR
VERSION:2.0
PRODID:-//ChamberMaster//Event Calendar 2.0//EN
METHOD:PUBLISH
X-PUBLISHED-TTL:P3D
REFRESH-INTERVAL:P3D
CALSCALE:GREGORIAN
BEGIN:VEVENT
DTSTART:20200124T133000Z
DTEND:20200124T143000Z
X-MICROSOFT-CDO-ALLDAYEVENT:FALSE
SUMMARY:New Board Member Orientation
DESCRIPTION:All New Chamber Members are invited to attend the 1st Quarter New Board Member Orientation - Chamber 101.  \n\n - Learn what's in it for YOU!\n\n - Find out what the Chamber does for Business\n\n - Meet your Chamber staff\n\n - Meet Identify Networking Opportunities
X-ALT-DESC;FMTTYPE=text/html:All New Chamber Members are invited to attend the 1st Quarter New Board Member Orientation - Chamber 101. &nbsp\;<br />\n&nbsp\;- Learn what&#39\;s in it for YOU!<br />\n&nbsp\;- Find out what the Chamber does for Business<br />\n&nbsp\;- Meet your Chamber staff<br />\n&nbsp\;- Meet Identify Networking Opportunities<br />\n<br />\n&nbsp\;
LOCATION:Frankfort Area Chamber office 229 West Main Street\, Ste. 102
UID:e.1786.1253
SEQUENCE:3
DTSTAMP:20260424T223902Z
URL:https://members.frankfortky.info/events/details/new-board-member-orientation-1253
END:VEVENT

END:VCALENDAR
