BEGIN:VCALENDAR
VERSION:2.0
PRODID:-//ChamberMaster//Event Calendar 2.0//EN
METHOD:PUBLISH
X-PUBLISHED-TTL:P3D
REFRESH-INTERVAL:P3D
CALSCALE:GREGORIAN
BEGIN:VEVENT
DTSTART:20180928T123000Z
DTEND:20180928T133000Z
X-MICROSOFT-CDO-ALLDAYEVENT:FALSE
SUMMARY:New Member Orientation
DESCRIPTION:We encourage our new Chamber members to attend one of our quarterly New Member Orientation meetings.  This is your opportunity to meet the Chamber staff\, introduce your business\, and familiarize yourself with the variety of benefits we offer and get connected!\n\nAt each orientation\, Chamber staff gives an informal presentation covering all you need to know to start making your Chamber membership work for you.  Topics covered include:\n\n\n	Networking Events\n	Special Events\n	Marketing Services\n	Direct Savings\n	Programs\n	Councils\n	Communications\n\n\nAlso in attendance at the meeting are the Chamber Ambassadors. The Ambassadors are there to help you. They can answer any question or provide guidance.  The New Member Orientation is a great way to start you Chamber connection.
X-ALT-DESC;FMTTYPE=text/html:<p style="margin: 0px\; padding: 0px 0px 17px\; outline: 0px\; font-size: 14px\; line-height: 24px\; color: rgb(58\, 58\, 58)\; font-family: arial\, sans-serif\;">We encourage our new Chamber members to attend one of our quarterly New Member Orientation meetings.&nbsp\; This is your opportunity to meet the Chamber staff\, introduce your business\, and familiarize yourself with the variety of benefits we offer and get connected!</p>\n\n<p style="margin: 0px\; padding: 0px 0px 17px\; outline: 0px\; font-size: 14px\; line-height: 24px\; color: rgb(58\, 58\, 58)\; font-family: arial\, sans-serif\;">At each orientation\, Chamber staff gives an informal presentation covering all you need to know to start making your Chamber membership work for you.&nbsp\; Topics covered include:</p>\n\n<ul style="margin: 0px 0px 10px 20px\; padding: 0px\; outline: 0px\; font-size: 14px\; line-height: 18px\; color: rgb(82\, 82\, 82)\; font-family: arial\, sans-serif\;">\n	<li style="margin: 0px\; padding: 0px 0px 3px\; outline: 0px\; color: rgb(58\, 58\, 58)\; line-height: 24px\;">Networking Events</li>\n	<li style="margin: 0px\; padding: 0px 0px 3px\; outline: 0px\; color: rgb(58\, 58\, 58)\; line-height: 24px\;">Special Events</li>\n	<li style="margin: 0px\; padding: 0px 0px 3px\; outline: 0px\; color: rgb(58\, 58\, 58)\; line-height: 24px\;">Marketing Services</li>\n	<li style="margin: 0px\; padding: 0px 0px 3px\; outline: 0px\; color: rgb(58\, 58\, 58)\; line-height: 24px\;">Direct Savings</li>\n	<li style="margin: 0px\; padding: 0px 0px 3px\; outline: 0px\; color: rgb(58\, 58\, 58)\; line-height: 24px\;">Programs</li>\n	<li style="margin: 0px\; padding: 0px 0px 3px\; outline: 0px\; color: rgb(58\, 58\, 58)\; line-height: 24px\;">Councils</li>\n	<li style="margin: 0px\; padding: 0px 0px 3px\; outline: 0px\; color: rgb(58\, 58\, 58)\; line-height: 24px\;">Communications</li>\n</ul>\n\n<p style="margin: 0px\; padding: 0px 0px 17px\; outline: 0px\; font-size: 14px\; line-height: 24px\; color: rgb(58\, 58\, 58)\; font-family: arial\, sans-serif\;">Also in attendance at the meeting are the Chamber Ambassadors.&nbsp\;The Ambassadors&nbsp\;are there to help you. They can answer any question or provide guidance.&nbsp\; The New Member Orientation is a great way to start you Chamber connection.</p>\n
LOCATION:Chamber office 100 Capital Avenue Frankfort
UID:e.1786.2766
SEQUENCE:3
DTSTAMP:20260426T023858Z
URL:https://members.frankfortky.info/events/details/new-member-orientation-2766
END:VEVENT

END:VCALENDAR
