BEGIN:VCALENDAR
VERSION:2.0
PRODID:-//ChamberMaster//Event Calendar 2.0//EN
METHOD:PUBLISH
X-PUBLISHED-TTL:P3D
REFRESH-INTERVAL:P3D
CALSCALE:GREGORIAN
BEGIN:VEVENT
DTSTART:20180819T003000Z
DTEND:20180819T033000Z
X-MICROSOFT-CDO-ALLDAYEVENT:FALSE
SUMMARY:Night Sky Tour Saturn
DESCRIPTION:You don't want to miss this! Includes multimedia presentations in the Art Barn that explore Saturn\, starting at 8:30. Observation begins at 9pm. Explore the night sky with expert guidance from Dan Price\, NASA Solar System Ambassador\, outside through our large telescopes. You may even capture a photo of the moon through a telescope on your smart phone! JSP joined the NASA Museum Alliance! JSP is now part of the NASA Museum Alliance! There's no need to register\, just come on out. Want to learn more about your own telescope\, bring it out! All ages welcome\; children must be accompanied by an adult. You may come and go anytime between 8:30pm-11:30pm. Suggested $10 donation per group or couple. More dates to be scheduled throughout the year.
X-ALT-DESC;FMTTYPE=text/html:You don&rsquo\;t want to miss this! Includes multimedia presentations in the Art Barn that explore Saturn\, starting at 8:30. Observation begins at 9pm. Explore the night sky with expert guidance from Dan Price\, NASA Solar System Ambassador\, outside through our large telescopes. You may even capture a photo of the moon through a telescope on your smart phone! JSP joined the NASA Museum Alliance! JSP is now part of the NASA Museum Alliance! There&rsquo\;s no need to register\, just come on out. Want to learn more about your own telescope\, bring it out! All ages welcome\; children must be accompanied by an adult. You may come and go anytime between 8:30pm-11:30pm. Suggested $10 donation per group or couple. More dates to be scheduled throughout the year.
LOCATION:Josephine Sculpture Park\, 3355 Lawrenceburg Rd
UID:e.1786.3015
SEQUENCE:3
DTSTAMP:20260426T022849Z
URL:https://members.frankfortky.info/events/details/night-sky-tour-saturn-3015
END:VEVENT

END:VCALENDAR
