BEGIN:VCALENDAR
VERSION:2.0
PRODID:-//ChamberMaster//Event Calendar 2.0//EN
METHOD:PUBLISH
X-PUBLISHED-TTL:P3D
REFRESH-INTERVAL:P3D
CALSCALE:GREGORIAN
BEGIN:VEVENT
DTSTART:20240202T163000Z
DTEND:20240202T173000Z
X-MICROSOFT-CDO-ALLDAYEVENT:FALSE
SUMMARY:Norton Healthcare Ribbon Cutting
DESCRIPTION:
X-ALT-DESC;FMTTYPE=text/html:
LOCATION:202 Limestone Drive
UID:e.1786.4313
SEQUENCE:3
DTSTAMP:20260422T070153Z
URL:https://members.frankfortky.info/events/details/norton-healthcare-ribbon-cutting-4313
END:VEVENT

END:VCALENDAR
