BEGIN:VCALENDAR
VERSION:2.0
PRODID:-//ChamberMaster//Event Calendar 2.0//EN
METHOD:PUBLISH
X-PUBLISHED-TTL:P3D
REFRESH-INTERVAL:P3D
CALSCALE:GREGORIAN
BEGIN:VEVENT
DTSTART:20240910T153000Z
DTEND:20240910T170000Z
X-MICROSOFT-CDO-ALLDAYEVENT:FALSE
SUMMARY:On the Menu - Be the Competition
DESCRIPTION:
X-ALT-DESC;FMTTYPE=text/html:
LOCATION:The Paul Sawyier Public Library 319 Wapping St. Frankfort\, KY 40601 Calling all Business Owners\, Employers\, Employees\, Daycare Providers\, and parents who want to work! Are you tired of losing employees to the competition that offer more benefits? Are you tired of losing employees because they cannot afford childcare? Are you tired of always posting a "help wanted" sign? What if we told you we have solutions to help combat those challenges? Meet our partners from the Kentucky Chamber who will explain how! Did you know by being a member of the Frankfort Area Chamber of Commerce we have partner programs to help you BECOME THE COMPETITION! We hope you'll join us for an informative lunch catered by Terri's Catering to find out the answers you are searching for! Our On the Menu - Educational Series is sponsored by our friends at Expree Credit Union!
UID:e.1786.4529
SEQUENCE:3
DTSTAMP:20260419T150535Z
URL:https://members.frankfortky.info/events/details/on-the-menu-be-the-competition-4529
END:VEVENT

END:VCALENDAR
