BEGIN:VCALENDAR
VERSION:2.0
PRODID:-//ChamberMaster//Event Calendar 2.0//EN
METHOD:PUBLISH
X-PUBLISHED-TTL:P3D
REFRESH-INTERVAL:P3D
CALSCALE:GREGORIAN
BEGIN:VEVENT
DTSTART;VALUE=DATE:20190327
DTEND;VALUE=DATE:20190328
TRANSP:TRANSPARENT
X-MICROSOFT-CDO-ALLDAYEVENT:TRUE
SUMMARY:On the Table Community Discussion
DESCRIPTION:On the Table is a one-day opportunity to gather around a table with friends\, neighbors\, colleagues and maybe even a few people we are meeting for the first time to share a meal and have a real conversation about what's important to us.\n\n\n\nDo you live\, work or attend school in Franklin County ? You are invited to participate by hosting or\n\nattending an On the Table conversation. Registration opens January 15\, 2019.  Email info@bgcf.org for more information.
X-ALT-DESC;FMTTYPE=text/html:<span style="color: rgb(51\, 51\, 51)\; font-family: sans-serif\, Arial\, Verdana\, &quot\;Trebuchet MS&quot\;\; font-size: 13px\; background-color: rgb(255\, 255\, 255)\;">On the Table is a one-day&nbsp\;opportunity to gather around a table&nbsp\;with friends\, neighbors\, colleagues&nbsp\;and maybe even a few people we are&nbsp\;meeting for the first time to share a&nbsp\;meal and have a real conversation&nbsp\;about what&#39\;s important to us.</span><br />\n<br />\nDo you live\, work or attend school in Franklin County ? You are invited to participate by hosting or<br />\nattending an On the Table conversation. Registration opens January 15\, 2019.&nbsp\; Email&nbsp\;info@bgcf.org for more information.&nbsp\;
LOCATION:Various locations in Frankfort and Franklin County
UID:e.1786.2704
SEQUENCE:3
DTSTAMP:20260425T145028Z
URL:https://members.frankfortky.info/events/details/on-the-table-community-discussion-2704
END:VEVENT

END:VCALENDAR
