BEGIN:VCALENDAR
VERSION:2.0
PRODID:-//ChamberMaster//Event Calendar 2.0//EN
METHOD:PUBLISH
X-PUBLISHED-TTL:P3D
REFRESH-INTERVAL:P3D
CALSCALE:GREGORIAN
BEGIN:VEVENT
DTSTART:20191204T230000Z
DTEND:20191205T010000Z
X-MICROSOFT-CDO-ALLDAYEVENT:FALSE
SUMMARY:Paul Sawyier Public Library Event
DESCRIPTION:NaNoWriMo: What Comes Next?\n\nWednesday\, December 4 @ 6:00pm\n\nRiver Room\n\n \n\nSo you've written a novel or short story: what comes next? Whether you recently participated in National Novel Writing Month (NaNoWriMo) or just want to know how to search for publishers and distribute your book\, this program is for you! You'll learn about different magazines\, websites\, and platforms you can publish on\, and meet like-minded people.\n\n \n\nPlease register online or at the library. For more information\, contact Cindy Butor at 352-2665 x107 or cindy.butor@pspl.org.\n\n \n\nRegister: http://bit.ly/psplNaNoWriMo
X-ALT-DESC;FMTTYPE=text/html:<p style="margin:0in\;margin-bottom:.0001pt\;background:white"><b><span style="font-family:&quot\;Calibri&quot\;\,&quot\;sans-serif&quot\;">NaNoWriMo: What Comes Next?<br />\nWednesday\, December 4 @ 6:00pm<br />\nRiver Room<o:p></o:p></span></b></p>\n\n<p style="margin:0in\;margin-bottom:.0001pt\;background:white"><span style="font-family:&quot\;Calibri&quot\;\,&quot\;sans-serif&quot\;"><o:p>&nbsp\;</o:p></span></p>\n\n<p style="margin:0in\;margin-bottom:.0001pt\;background:white"><span style="font-family:&quot\;Calibri&quot\;\,&quot\;sans-serif&quot\;">So you&rsquo\;ve written a novel or short story: what comes next? Whether you recently participated in National Novel Writing Month (NaNoWriMo) or just want to know how to search for publishers and distribute your book\, this program is for you! You&rsquo\;ll learn about different magazines\, websites\, and platforms you can publish on\, and meet like-minded people.<o:p></o:p></span></p>\n\n<p style="margin:0in\;margin-bottom:.0001pt\;background:white\;box-sizing: inherit\;\nfont-variant-ligatures: normal\;font-variant-caps: normal\;orphans: 2\;widows: 2\;\n-webkit-text-stroke-width: 0px\;text-decoration-style: initial\;text-decoration-color: initial\;\nword-spacing:0px"><span style="font-family:&quot\;Calibri&quot\;\,&quot\;sans-serif&quot\;"><o:p>&nbsp\;</o:p></span></p>\n\n<p style="margin:0in\;margin-bottom:.0001pt\;background:white"><span style="font-family:&quot\;Calibri&quot\;\,&quot\;sans-serif&quot\;">Please register online or at the library. For more information\, contact Cindy Butor at 352-2665 x107 or&nbsp\;<a href="mailto:cindy.butor@pspl.org"><span style="color:windowtext">cindy.butor@pspl.org</span></a>.<o:p></o:p></span></p>\n\n<p style="margin:0in\;margin-bottom:.0001pt\;background:white\;box-sizing: inherit\;\nfont-variant-ligatures: normal\;font-variant-caps: normal\;orphans: 2\;widows: 2\;\n-webkit-text-stroke-width: 0px\;text-decoration-style: initial\;text-decoration-color: initial\;\nword-spacing:0px"><span style="font-family:&quot\;Calibri&quot\;\,&quot\;sans-serif&quot\;"><o:p>&nbsp\;</o:p></span></p>\n\n<p style="margin:0in\;margin-bottom:.0001pt\;background:white"><span style="font-family:&quot\;Calibri&quot\;\,&quot\;sans-serif&quot\;">Register:&nbsp\;<a href="http://bit.ly/psplNaNoWriMo"><span style="color:windowtext">http://bit.ly/psplNaNoWriMo</span></a><o:p></o:p></span></p>\n\n<p style="margin:0in\;margin-bottom:.0001pt\;background:white"><span style="font-family:&quot\;Calibri&quot\;\,&quot\;sans-serif&quot\;"><o:p>&nbsp\;</o:p></span></p>\n
LOCATION:Paul Sawyier Public Library 319 Wapping Street Frankfort
UID:e.1786.3329
SEQUENCE:3
DTSTAMP:20260425T015527Z
URL:https://members.frankfortky.info/events/details/paul-sawyier-public-library-event-3329
END:VEVENT

END:VCALENDAR
