BEGIN:VCALENDAR
VERSION:2.0
PRODID:-//ChamberMaster//Event Calendar 2.0//EN
METHOD:PUBLISH
X-PUBLISHED-TTL:P3D
REFRESH-INTERVAL:P3D
CALSCALE:GREGORIAN
BEGIN:VEVENT
DTSTART:20240801T140000Z
DTEND:20240801T150000Z
X-MICROSOFT-CDO-ALLDAYEVENT:FALSE
SUMMARY:PLACEHOLDER Dirty Deeds 10 Year Ribbon Cutting Celebration
DESCRIPTION:Join Dirty Deeds cleaning Company for a Ribbon Cutting Celebration of being in business for 10 years!
X-ALT-DESC;FMTTYPE=text/html:<span style="font-size:22px\;">Join Dirty Deeds cleaning Company for a Ribbon Cutting Celebration of being in business for 10 years!</span>
LOCATION:700 Teton Trl\, Frankfort\, KY 40601
UID:e.1786.4514
SEQUENCE:3
DTSTAMP:20260419T133434Z
URL:https://members.frankfortky.info/events/details/placeholder-dirty-deeds-10-year-ribbon-cutting-celebration-4514
END:VEVENT

END:VCALENDAR
