BEGIN:VCALENDAR
VERSION:2.0
PRODID:-//ChamberMaster//Event Calendar 2.0//EN
METHOD:PUBLISH
X-PUBLISHED-TTL:P3D
REFRESH-INTERVAL:P3D
CALSCALE:GREGORIAN
BEGIN:VEVENT
DTSTART:20200211T183000Z
DTEND:20200211T210000Z
X-MICROSOFT-CDO-ALLDAYEVENT:FALSE
SUMMARY:Plaster Master! Harry Mordecai in the Old State Capitol
DESCRIPTION:Come inside the Old State Capitol and learn about the man who fashioned the intricate plasterwork that makes our rotunda so stunning! Harry Mordecai was once an enslaved man but used his artisan skills to buy his freedom. Families will have an opportunity to learn about Harry Mordecai\, the construction of the Old State Capitol\, and how to make their own plaster objects! All ages welcome. Cost: $8 per person\; $5 for members. Price includes museum admission so feel free to explore our sites for the rest of the day! Registration required no later than three days before the class. Space is limited. Call 502-564-1792 or email KHSeducation@ky.gov Payment is due the day of the workshop. Workshops begin at the front desk of the Kentucky History Center.
X-ALT-DESC;FMTTYPE=text/html:Come inside the Old State Capitol and learn about the man who fashioned the intricate plasterwork that makes our rotunda so stunning! Harry Mordecai was once an enslaved man but used his artisan skills to buy his freedom. Families will have an opportunity to learn about Harry Mordecai\, the construction of the Old State Capitol\, and how to make their own plaster objects! All ages welcome. Cost: $8 per person\; $5 for members. Price includes museum admission so feel free to explore our sites for the rest of the day! Registration required no later than three days before the class. Space is limited. Call 502-564-1792 or email KHSeducation@ky.gov Payment is due the day of the workshop. Workshops begin at the front desk of the Kentucky History Center.
LOCATION:Thomas D. Clark Center for Kentucky History
UID:e.1786.3497
SEQUENCE:3
DTSTAMP:20260424T224259Z
URL:https://members.frankfortky.info/events/details/plaster-master-harry-mordecai-in-the-old-state-capitol-3497
END:VEVENT

END:VCALENDAR
