BEGIN:VCALENDAR
VERSION:2.0
PRODID:-//ChamberMaster//Event Calendar 2.0//EN
METHOD:PUBLISH
X-PUBLISHED-TTL:P3D
REFRESH-INTERVAL:P3D
CALSCALE:GREGORIAN
BEGIN:VEVENT
DTSTART:20191107T190000Z
DTEND:20191107T200000Z
X-MICROSOFT-CDO-ALLDAYEVENT:FALSE
SUMMARY:Reach Customers Online With Google
DESCRIPTION:REACH CUSTOMERS ONLINE WITH GOOGLE Webinar\n\n\n\nLearn how customers find your business online and how to promote your business using Search Engine Optimization (SEO) and Smart Campaigns in Google Ads.\n\n\n\nIn this workshop I will discuss best practices for:\n\n\n\n  Improving your website's visibility in Google's organic search results\, on all devices \n\n  Creating a free Google My Business listing \n\n  Advertising your business on Google \n\n\n\nAbout our Speaker my speaker bio
X-ALT-DESC;FMTTYPE=text/html:<span style="font-size:9.5pt\;">REACH CUSTOMERS ONLINE WITH GOOGLE Webinar<br />\n<br />\nLearn how customers find your business online and how to promote your business using Search Engine Optimization (SEO) and Smart Campaigns in Google Ads.<br />\n<br />\nIn this workshop I will discuss best practices for:<br />\n<br />\n&bull\; Improving your website&rsquo\;s visibility in Google&rsquo\;s organic search results\, on all devices&#8232\;<br />\n&bull\; Creating a free Google My Business listing&#8232\;<br />\n&bull\; Advertising your business on Google&#8232\;<br />\n<br />\nAbout our Speaker&nbsp\;</span><span style="font-family:times new roman\,serif\;"><span style="font-size:9.5pt\;"><a href="http://bit.ly/DaveDelaney" target="_blank">my speaker bio</a></span></span>
LOCATION:For your convenience our webinar will be available right from your desk.
UID:e.1786.3176
SEQUENCE:3
DTSTAMP:20260425T020340Z
URL:https://members.frankfortky.info/events/details/reach-customers-online-with-google-3176
END:VEVENT

END:VCALENDAR
