BEGIN:VCALENDAR
VERSION:2.0
PRODID:-//ChamberMaster//Event Calendar 2.0//EN
METHOD:PUBLISH
X-PUBLISHED-TTL:P3D
REFRESH-INTERVAL:P3D
CALSCALE:GREGORIAN
BEGIN:VEVENT
DTSTART:20190312T120000Z
DTEND:20190312T190000Z
X-MICROSOFT-CDO-ALLDAYEVENT:FALSE
SUMMARY:Reality Store 2019
DESCRIPTION:What's one of the most enlightening ways for our students to learn about the real world relationship of education and career opportunities\, lifestyle choices and monthly budgets?  The Chamber's Frankfort First Education Foundation believes that it is the Reality Store!  Reality Store is a hands-on interactive educational experience that will be presented to all eighth-grade students on March 12\, 2019 at Frankfort Christian Academy
X-ALT-DESC;FMTTYPE=text/html:<span style="background:white\;"><span style="color:#333333\;"><span style="font-size:10.0pt\;">What&rsquo\;s one of the most enlightening ways for our students to learn about the real world relationship of education and career opportunities\, lifestyle choices and monthly budgets?&nbsp\; The Chamber&#39\;s Frankfort First Education Foundation believes that it is the Reality Store!&nbsp\; Reality Store is a hands-on interactive educational experience that will be presented to all eighth-grade students on <u>March 12\, 2019 at Frankfort Christian Academy</u></span></span></span>
LOCATION:Frankfort Christian Academy U.S. 421
UID:e.1786.2706
SEQUENCE:3
DTSTAMP:20260425T145739Z
URL:https://members.frankfortky.info/events/details/reality-store-2019-2706
END:VEVENT

END:VCALENDAR
