BEGIN:VCALENDAR
VERSION:2.0
PRODID:-//ChamberMaster//Event Calendar 2.0//EN
METHOD:PUBLISH
X-PUBLISHED-TTL:P3D
REFRESH-INTERVAL:P3D
CALSCALE:GREGORIAN
BEGIN:VEVENT
DTSTART;VALUE=DATE:20200312
DTEND;VALUE=DATE:20200313
TRANSP:TRANSPARENT
X-MICROSOFT-CDO-ALLDAYEVENT:TRUE
SUMMARY:Reality Store 2020
DESCRIPTION:It is an active\, hands-on\, real-life simulation\, which gives young people the opportunity to explore career opportunities and make lifestyle\, and budget choices similar to those adults face on a daily basis.\n\nParticipants assume that they are 25 years old and have completed basic educational requirements for their specific occupation.  Students then draw a family\; some students may not have any children\, while others may have up to 4 children.\n\nParticipants are given the opportunity to draw an occupation based on their grade point average. They are then given the equivalent salary and proceed through the "Reality Store".\n\n\n\nSponsored by Expree Credit Union and Co-Sponsored by Franklin County Public Schools and Frankfort Independent Schools\; Reality Store has been a staple in the Frankfort and Franklin County community for over 25 years.
X-ALT-DESC;FMTTYPE=text/html:It is an active\, hands-on\, real-life simulation\, which gives young people the opportunity to explore career opportunities and make lifestyle\, and budget choices similar to those adults face on a daily basis.<br />\nParticipants assume that they are 25 years old and have completed basic educational requirements for their specific occupation.&nbsp\; Students then draw a family\; some students may not have any children\, while others may have up to 4 children.<br />\nParticipants are given the opportunity to draw an occupation based on their grade point average. They are then given the equivalent salary and proceed through the &ldquo\;Reality Store&rdquo\;.<br />\n<br />\nSponsored by Expree Credit Union and Co-Sponsored by Franklin County Public Schools and Frankfort Independent Schools\; Reality Store has been a staple in the Frankfort and Franklin County community for over 25 years. &nbsp\;<br />\n&nbsp\;
LOCATION:Frankfort Christian Academy
UID:e.1786.1278
SEQUENCE:3
DTSTAMP:20260424T191130Z
URL:https://members.frankfortky.info/events/details/reality-store-2020-1278
END:VEVENT

END:VCALENDAR
