BEGIN:VCALENDAR
VERSION:2.0
PRODID:-//ChamberMaster//Event Calendar 2.0//EN
METHOD:PUBLISH
X-PUBLISHED-TTL:P3D
REFRESH-INTERVAL:P3D
CALSCALE:GREGORIAN
BEGIN:VEVENT
DTSTART:20200604T180000Z
DTEND:20200604T190000Z
X-MICROSOFT-CDO-ALLDAYEVENT:FALSE
SUMMARY:Results for Business - What Passed. What Didn't
DESCRIPTION:The Kentucky Chamber of Commerce wrap-up of the 2020 Kentucky General Assembly and what it means to businesses will be discussed with Travis T. Burton\, Director of Political Affairs at the Kentucky Chamber on June 4\, 2020 at 2:00pm via ZOOM as part of the Frankfort Area Chamber?s Governmental Affairs Legislative Update.   \n\n \n\nDuring our webinar\, Travis will provide updates on what top priorities passed and which ones were left on the table in 2020.  He will also update area businesses on what the Kentucky Chamber will continue to work on for the 2021 General Assembly.
X-ALT-DESC;FMTTYPE=text/html:<span style="language:en-US\;"><span style="font-family:calibri\;"><span style="font-size:14.0pt\;">The Kentucky Chamber of Commerce wrap-up of the 2020 Kentucky General Assembly and what it means to businesses will be discussed with </span></span></span><span style="font-weight:bold\;language:en-US\;"><span style="font-family:calibri\;"><span style="font-size:14.0pt\;">Travis T. Burton\, </span></span></span><span style="font-weight:bold\;language:en-US\;"><span style="color:black\;"><span style="font-family:calibri\;"><span style="font-size:14.0pt\;">Director of Political Affairs</span></span></span></span> <span style="language:en-US\;"><span style="font-family:calibri\;"><span style="font-size:14.0pt\;">at the Kentucky Chamber on June 4\, 2020 at 2:00pm via ZOOM as part of the </span></span></span><span style="font-weight:bold\;language:en-US\;"><span style="font-family:calibri\;"><span style="font-size:14.0pt\;">Frankfort Area Chamber?s Governmental Affairs Legislative Update</span></span></span><span style="language:en-US\;"><span style="font-family:calibri\;"><span style="font-size:14.0pt\;">.&nbsp\;&nbsp\; </span></span></span><br />\n&nbsp\;<br />\n<span style="language:en-US\;"><span style="font-family:calibri\;"><span style="font-size:14.0pt\;">During our webinar\, Travis will provide updates on what top priorities passed and which ones were left on the table in 2020.&nbsp\; He will also update area businesses on what the Kentucky Chamber will continue to work on for the 2021 General Assembly. </span></span></span><br />\n<br />\n&nbsp\;
LOCATION:Join Zoom Meeting https://us02web.zoom.us/j/87552844294?pwd=Rm4zcmkwdWZ0eGJPTkxlYUZ3dWg2UT09 Meeting ID: 875 5284 4294 Password: 480774
UID:e.1786.3540
SEQUENCE:3
DTSTAMP:20260424T152907Z
URL:https://members.frankfortky.info/events/details/results-for-business-what-passed-what-didn-t-3540
END:VEVENT

END:VCALENDAR
