BEGIN:VCALENDAR
VERSION:2.0
PRODID:-//ChamberMaster//Event Calendar 2.0//EN
METHOD:PUBLISH
X-PUBLISHED-TTL:P3D
REFRESH-INTERVAL:P3D
CALSCALE:GREGORIAN
BEGIN:VEVENT
DTSTART:20181025T203000Z
DTEND:20181025T223000Z
X-MICROSOFT-CDO-ALLDAYEVENT:FALSE
SUMMARY:Ribbon Cutting and Business After Hours - The Chandler
DESCRIPTION:Join us for a ribbon cutting and Business After Hours at The Chandler.
X-ALT-DESC;FMTTYPE=text/html:Join us for a ribbon cutting and Business After Hours at The Chandler.
LOCATION:The Chandler 1470 Cardwell Lane Frankfort\, KY
UID:e.1786.3051
SEQUENCE:3
DTSTAMP:20260426T010517Z
URL:https://members.frankfortky.info/events/details/ribbon-cutting-and-business-after-hours-the-chandler-3051
END:VEVENT

END:VCALENDAR
