BEGIN:VCALENDAR
VERSION:2.0
PRODID:-//ChamberMaster//Event Calendar 2.0//EN
METHOD:PUBLISH
X-PUBLISHED-TTL:P3D
REFRESH-INTERVAL:P3D
CALSCALE:GREGORIAN
BEGIN:VEVENT
DTSTART:20181214T163000Z
DTEND:20181214T183000Z
X-MICROSOFT-CDO-ALLDAYEVENT:FALSE
SUMMARY:Ribbon Cutting and Holiday Open House at Traditional Bank
DESCRIPTION:Join Traditional Bank and the Frankfort Area Chamber\, as they celebrate the Grand Opening of Traditional Bank's Frankfort location. Meet the Traditional Bank team. Enjoy refreshments. Enter to win prizes.
X-ALT-DESC;FMTTYPE=text/html:Join Traditional Bank and the Frankfort Area Chamber\, as they celebrate the Grand Opening of Traditional Bank&#39\;s Frankfort location. Meet the Traditional Bank team. Enjoy refreshments. Enter to win prizes.&nbsp\;
LOCATION:Traditional Bank 91 Arrowhead Court (next to Day's Boat Sales) Frankfort\, KY
UID:e.1786.3058
SEQUENCE:3
DTSTAMP:20260425T215528Z
URL:https://members.frankfortky.info/events/details/ribbon-cutting-and-holiday-open-house-at-traditional-bank-3058
END:VEVENT

END:VCALENDAR
