BEGIN:VCALENDAR
VERSION:2.0
PRODID:-//ChamberMaster//Event Calendar 2.0//EN
METHOD:PUBLISH
X-PUBLISHED-TTL:P3D
REFRESH-INTERVAL:P3D
CALSCALE:GREGORIAN
BEGIN:VEVENT
DTSTART:20240809T150000Z
DTEND:20240809T160000Z
X-MICROSOFT-CDO-ALLDAYEVENT:FALSE
SUMMARY:Ribbon Cutting - Big Daddy's Fried Chicken
DESCRIPTION:The Chamber is always ready to help its members celebrate their successes with ribbon cutting ceremonies. Whether you are a new member or moving to a new location\, expanding your existing business or relaunching your product line the Frankfort Area Chamber and its members will join you in marking these momentous occasions.
X-ALT-DESC;FMTTYPE=text/html:<h3 style="box-sizing: border-box\; font-family: Lato\, sans-serif\; color: rgb(184\, 140\, 67)\; margin: 0px 0px 10px\; font-size: 26px\; padding: 0px\; letter-spacing: 0.3px\;"><span style="color: rgb(0\, 0\, 0)\;">The Chamber is always ready to help its members celebrate their successes with ribbon cutting ceremonies. Whether you are a new member or moving to a new location\, expanding your existing business or relaunching your product line&mdash\;the Frankfort Area&nbsp\;Chamber and its members will join you in marking these momentous occasions.</span></h3>\n
LOCATION:Big Daddy's Fried Chicken 114 Bridge Street\, Frankfort\, KY 40601 (Previous location of Rick's White Light Diner)
UID:e.1786.4557
SEQUENCE:3
DTSTAMP:20260419T182155Z
URL:https://members.frankfortky.info/events/details/ribbon-cutting-big-daddy-s-fried-chicken-4557
END:VEVENT

END:VCALENDAR
