BEGIN:VCALENDAR
VERSION:2.0
PRODID:-//ChamberMaster//Event Calendar 2.0//EN
METHOD:PUBLISH
X-PUBLISHED-TTL:P3D
REFRESH-INTERVAL:P3D
CALSCALE:GREGORIAN
BEGIN:VEVENT
DTSTART:20190322T160000Z
DTEND:20190322T160000Z
X-MICROSOFT-CDO-ALLDAYEVENT:FALSE
SUMMARY:Ribbon Cutting @ Dymanic Restoration
DESCRIPTION:Join the Frankfort Area Chamber and Ribbon Cutting Sponsor Independence Bank as we welcome Dynamic Restorations to Frankfort.
X-ALT-DESC;FMTTYPE=text/html:Join the Frankfort Area Chamber and Ribbon Cutting Sponsor Independence Bank as we welcome Dynamic Restorations to Frankfort.
LOCATION:Dynamic Restorations 207 Versailles Rd
UID:e.1786.3086
SEQUENCE:3
DTSTAMP:20260425T151447Z
URL:https://members.frankfortky.info/events/details/ribbon-cutting-dymanic-restoration-3086
END:VEVENT

END:VCALENDAR
