BEGIN:VCALENDAR
VERSION:2.0
PRODID:-//ChamberMaster//Event Calendar 2.0//EN
METHOD:PUBLISH
X-PUBLISHED-TTL:P3D
REFRESH-INTERVAL:P3D
CALSCALE:GREGORIAN
BEGIN:VEVENT
DTSTART:20180720T160000Z
DTEND:20180720T163000Z
X-MICROSOFT-CDO-ALLDAYEVENT:FALSE
SUMMARY:Ribbon Cutting - Fast Freddy's Car Wash
DESCRIPTION:Please join the Frankfort Area Chamber as we join Fast Freddy's Car Wash East for a ribbon cutting at their new location.
X-ALT-DESC;FMTTYPE=text/html:Please join the Frankfort Area Chamber as we join Fast Freddy&#39\;s Car Wash East for a ribbon cutting at their new location.
LOCATION:Fast Freddy's Car Wash East - 1405 Versailles Road.
UID:e.1786.3004
SEQUENCE:3
DTSTAMP:20260426T041155Z
URL:https://members.frankfortky.info/events/details/ribbon-cutting-fast-freddy-s-car-wash-3004
END:VEVENT

END:VCALENDAR
