BEGIN:VCALENDAR
VERSION:2.0
PRODID:-//ChamberMaster//Event Calendar 2.0//EN
METHOD:PUBLISH
X-PUBLISHED-TTL:P3D
REFRESH-INTERVAL:P3D
CALSCALE:GREGORIAN
BEGIN:VEVENT
DTSTART:20240425T140000Z
DTEND:20240425T150000Z
X-MICROSOFT-CDO-ALLDAYEVENT:FALSE
SUMMARY:Ribbon Cutting for Traditional Bank West Location
DESCRIPTION:Join us Thursday\, April 25th at Traditional Bank from 10-11 AM for a Ribbon Cutting Ceremony. The ribbon will be cut at 10:30 AM. We hope you can join us!
X-ALT-DESC;FMTTYPE=text/html:<div class="xdj266r x11i5rnm xat24cr x1mh8g0r x1vvkbs x126k92a" style="margin: 0px\; white-space-collapse: preserve\; overflow-wrap: break-word\; font-family: &quot\;Segoe UI Historic&quot\;\, &quot\;Segoe UI&quot\;\, Helvetica\, Arial\, sans-serif\; color: rgb(5\, 5\, 5)\; font-size: 15px\; background-color: rgb(255\, 255\, 255)\;">\n<div dir="auto" style="font-family: inherit\;">Join us Thursday\, April 25th at <span style="font-family: inherit\;"><a class="x1i10hfl xjbqb8w x1ejq31n xd10rxx x1sy0etr x17r0tee x972fbf xcfux6l x1qhh985 xm0m39n x9f619 x1ypdohk xt0psk2 xe8uvvx xdj266r x11i5rnm xat24cr x1mh8g0r xexx8yu x4uap5 x18d9i69 xkhd6sd x16tdsg8 x1hl2dhg xggy1nq x1a2a7pz xt0b8zv x1fey0fg xo1l8bm" href="https://www.facebook.com/TraditionalBank?__cft__[0]=AZUvA2rwNCpPYOLdvjuZK-0SDNK9WTeXTkRXSCBGb4yhR3p7Pt47ebSkqmFZvrXW1hVxX94OBzeVzSmeDVfCR5xHxxAYwaE-hP1YYn44_oIAgBk_MQy8TZLjik0W3SwrAvA&amp\;__tn__=-]K-R" role="link" style="cursor: pointer\; text-decoration-line: none\; outline: none\; margin: 0px\; text-align: inherit\; border-style: none\; padding: 0px\; border-width: 0px\; box-sizing: border-box\; background-color: transparent\; display: inline\; list-style: none\; -webkit-tap-highlight-color: transparent\; touch-action: manipulation\; font-family: inherit\;" tabindex="0" target="_blank"><span class="xt0psk2" style="display: inline\; font-family: inherit\;">Traditional Bank</span></a></span> from 10-11 AM for a Ribbon Cutting Ceremony. The ribbon will be cut at 10:30 AM. We hope you can join us!</div>\n\n<div>&nbsp\;</div>\n</div>\n\n<div class="x11i5rnm xat24cr x1mh8g0r x1vvkbs xtlvy1s x126k92a" style="margin: 0.5em 0px 0px\; white-space-collapse: preserve\; overflow-wrap: break-word\; font-family: &quot\;Segoe UI Historic&quot\;\, &quot\;Segoe UI&quot\;\, Helvetica\, Arial\, sans-serif\; color: rgb(5\, 5\, 5)\; font-size: 15px\; background-color: rgb(255\, 255\, 255)\;">&nbsp\;</div>\n
LOCATION:1140 US 127 S
UID:e.1786.4356
SEQUENCE:3
DTSTAMP:20260422T025337Z
URL:https://members.frankfortky.info/events/details/ribbon-cutting-for-traditional-bank-west-location-4356
END:VEVENT

END:VCALENDAR
