BEGIN:VCALENDAR
VERSION:2.0
PRODID:-//ChamberMaster//Event Calendar 2.0//EN
METHOD:PUBLISH
X-PUBLISHED-TTL:P3D
REFRESH-INTERVAL:P3D
CALSCALE:GREGORIAN
BEGIN:VEVENT
DTSTART:20260320T200000Z
DTEND:20260320T210000Z
X-MICROSOFT-CDO-ALLDAYEVENT:FALSE
SUMMARY:Ribbon Cutting for Transactionbroker.com
DESCRIPTION:Join us for the ribbon cutting for Transactionbroker.com
X-ALT-DESC;FMTTYPE=text/html:Join us for the ribbon cutting for Transactionbroker.com
LOCATION:305 W Main Street Frankfort\, 40601
UID:e.1786.6556
SEQUENCE:3
DTSTAMP:20260421T104123Z
URL:https://members.frankfortky.info/events/details/ribbon-cutting-for-transactionbroker-com-6556
END:VEVENT

END:VCALENDAR
