BEGIN:VCALENDAR
VERSION:2.0
PRODID:-//ChamberMaster//Event Calendar 2.0//EN
METHOD:PUBLISH
X-PUBLISHED-TTL:P3D
REFRESH-INTERVAL:P3D
CALSCALE:GREGORIAN
BEGIN:VEVENT
DTSTART:20240812T200000Z
DTEND:20240812T210000Z
X-MICROSOFT-CDO-ALLDAYEVENT:FALSE
SUMMARY:Ribbon Cutting - Nadia's Hair Salon
DESCRIPTION:The Chamber is always ready to help its members celebrate their successes with ribbon cutting ceremonies. Whether you are a new member or moving to a new location\, expanding your existing business or relaunching your product line?the Frankfort Area Chamber and its members will join you in marking these momentous occasions.
X-ALT-DESC;FMTTYPE=text/html:<h3 style="box-sizing: border-box\; font-family: Lato\, sans-serif\; color: rgb(184\, 140\, 67)\; margin: 0px 0px 10px\; font-size: 26px\; padding: 0px\; letter-spacing: 0.3px\;"><span style="color: rgb(0\, 0\, 0)\;">The Chamber is always ready to help its members celebrate their successes with ribbon cutting ceremonies. Whether you are a new member or moving to a new location\, expanding your existing business or relaunching your product line?the Frankfort Area&nbsp\;Chamber and its members will join you in marking these momentous occasions.</span></h3>\n
LOCATION:Nadia's Beauty Salon 1230 US 127 South Suite 2 1/2 Frankfort\, Ky 40601
UID:e.1786.5340
SEQUENCE:3
DTSTAMP:20260419T134757Z
URL:https://members.frankfortky.info/events/details/ribbon-cutting-nadia-s-hair-salon-5340
END:VEVENT

END:VCALENDAR
