BEGIN:VCALENDAR
VERSION:2.0
PRODID:-//ChamberMaster//Event Calendar 2.0//EN
METHOD:PUBLISH
X-PUBLISHED-TTL:P3D
REFRESH-INTERVAL:P3D
CALSCALE:GREGORIAN
BEGIN:VEVENT
DTSTART:20190521T210000Z
DTEND:20190521T230000Z
X-MICROSOFT-CDO-ALLDAYEVENT:FALSE
SUMMARY:Ribbon Cutting & Open House @ NextHome Realty
DESCRIPTION:Join the Frankfort Area Chamber as we cut the Ribbon at NextHome Realty on Tuesday\, May 21st at 5:00pm.  \n\n\n\nAbout NextHome Realty - Whether you're a first time buyer or an experienced investor\, you'll find useful information about how to choose the "right" property\, making an offer\, negotiating\, financing\, mortgage rates\, moving\, and everything involved in making an informed home buying decision in today's market. Buying a home is a big investment so ask any and all questions to make yourself comfortable with your purchase. If you currently own property and are thinking about selling it\, this site contains information about preparing your home for sale\, selecting the right agent\, pricing your home appropriately\, marketing it effectively\, going through the inspection process\, and receiving a timely market evaluation.
X-ALT-DESC;FMTTYPE=text/html:Join the Frankfort Area Chamber as we cut the Ribbon at NextHome Realty on Tuesday\, May 21st at 5:00pm.&nbsp\;&nbsp\;<br />\n<br />\nAbout NextHome Realty -&nbsp\;<span style="color: rgb(49\, 53\, 52)\; font-family: Calibri\, sans-serif\; font-size: 16px\; background-color: rgb(248\, 248\, 248)\;">Whether you&#39\;re a first time buyer or an experienced investor\, you&#39\;ll find useful information about how to choose the &ldquo\;right&rdquo\; property\, making an offer\, negotiating\, financing\, mortgage rates\, moving\, and everything involved in making an informed home buying decision in today&#39\;s market. Buying a home is a big investment so ask any and all questions to make yourself comfortable with your purchase. If you currently own property and are thinking about selling it\, this site contains information about preparing your home for sale\, selecting the right agent\, pricing your home appropriately\, marketing it effectively\, going through the inspection process\, and receiving a timely market evaluation.</span>
LOCATION:NextHome Realty 1801 Louisville Road\, Frankfort\, KY 40601
UID:e.1786.3106
SEQUENCE:3
DTSTAMP:20260425T133331Z
URL:https://members.frankfortky.info/events/details/ribbon-cutting-open-house-nexthome-realty-3106
END:VEVENT

END:VCALENDAR
