BEGIN:VCALENDAR
VERSION:2.0
PRODID:-//ChamberMaster//Event Calendar 2.0//EN
METHOD:PUBLISH
X-PUBLISHED-TTL:P3D
REFRESH-INTERVAL:P3D
CALSCALE:GREGORIAN
BEGIN:VEVENT
DTSTART:20190423T180000Z
DTEND:20190423T190000Z
X-MICROSOFT-CDO-ALLDAYEVENT:FALSE
SUMMARY:Ribbon Cutting @ Spero Health
DESCRIPTION:Join the Frankfort Area Chamber and our Ribbon Cutting sponsored by Independence Bank as we welcome Spero Healthcare\, 251 Democratic Drive to our Chamber family.
X-ALT-DESC;FMTTYPE=text/html:<span style="color: rgb(0\, 112\, 192)\; font-family: Arial\; font-size: 16px\; background-color: rgb(255\, 255\, 255)\;">Join the Frankfort Area Chamber and our&nbsp\;</span><strong style="color: rgb(0\, 112\, 192)\; font-family: Arial\; font-size: 16px\; background-color: rgb(255\, 255\, 255)\;">Ribbon Cutting</strong><span style="color: rgb(0\, 112\, 192)\; font-family: Arial\; font-size: 16px\; background-color: rgb(255\, 255\, 255)\;">&nbsp\;sponsored by Independence Bank as we welcome&nbsp\;</span><strong style="color: rgb(0\, 112\, 192)\; font-family: Arial\; font-size: 16px\; background-color: rgb(255\, 255\, 255)\;">Spero Healthcare</strong><span style="color: rgb(0\, 112\, 192)\; font-family: Arial\; font-size: 16px\; background-color: rgb(255\, 255\, 255)\;">\, 251 Democratic Drive to our Chamber family.&nbsp\;</span>
LOCATION:Spero Healthcare 251 Democratic Drive Frankfort
UID:e.1786.3087
SEQUENCE:3
DTSTAMP:20260425T133331Z
URL:https://members.frankfortky.info/events/details/ribbon-cutting-spero-health-3087
END:VEVENT

END:VCALENDAR
