BEGIN:VCALENDAR
VERSION:2.0
PRODID:-//ChamberMaster//Event Calendar 2.0//EN
METHOD:PUBLISH
X-PUBLISHED-TTL:P3D
REFRESH-INTERVAL:P3D
CALSCALE:GREGORIAN
BEGIN:VEVENT
DTSTART:20240625T200000Z
DTEND:20240625T210000Z
X-MICROSOFT-CDO-ALLDAYEVENT:FALSE
SUMMARY:Ribbon Cutting - The Brown Barrel - Frankfort
DESCRIPTION:Please join the Frankfort Area Chamber as we join Brown Barrel Frankfort for a ribbon cutting at their new location.
X-ALT-DESC;FMTTYPE=text/html:Please join the Frankfort Area Chamber as we join Brown Barrel Frankfort for a ribbon cutting at their new location.<br />\n&nbsp\;
LOCATION:
UID:e.1786.4530
SEQUENCE:3
DTSTAMP:20260421T225916Z
URL:https://members.frankfortky.info/events/details/ribbon-cutting-the-brown-barrel-frankfort-4530
END:VEVENT

END:VCALENDAR
