BEGIN:VCALENDAR
VERSION:2.0
PRODID:-//ChamberMaster//Event Calendar 2.0//EN
METHOD:PUBLISH
X-PUBLISHED-TTL:P3D
REFRESH-INTERVAL:P3D
CALSCALE:GREGORIAN
BEGIN:VEVENT
DTSTART:20200123T160000Z
DTEND:20200123T163000Z
X-MICROSOFT-CDO-ALLDAYEVENT:FALSE
SUMMARY:Ribbon Cutting @ Trifecta BBA
DESCRIPTION:Join the Frankfort Area Chamber as we welcome Trifecta BBQ to our community.  Owner Tony Bryant invites all Chamber members to stop in and check out this great BBQ location.
X-ALT-DESC;FMTTYPE=text/html:<span style="font-size:14px\;">Join the Frankfort Area Chamber as we welcome Trifecta BBQ to our community.&nbsp\; Owner Tony Bryant invites all Chamber members to stop in and check out this great BBQ location.&nbsp\;</span>
LOCATION:328 St. Clair Street Frankfort
UID:e.1786.2985
SEQUENCE:3
DTSTAMP:20260424T223814Z
URL:https://members.frankfortky.info/events/details/ribbon-cutting-trifecta-bba-2985
END:VEVENT

END:VCALENDAR
