BEGIN:VCALENDAR
VERSION:2.0
PRODID:-//ChamberMaster//Event Calendar 2.0//EN
METHOD:PUBLISH
X-PUBLISHED-TTL:P3D
REFRESH-INTERVAL:P3D
CALSCALE:GREGORIAN
BEGIN:VEVENT
DTSTART:20180721T230000Z
DTEND:20180722T020000Z
X-MICROSOFT-CDO-ALLDAYEVENT:FALSE
SUMMARY:Riverside Concert
DESCRIPTION:The Frankfort Tourism Commission presents The Riverside Concert with Conch Republic.
X-ALT-DESC;FMTTYPE=text/html:The Frankfort Tourism Commission presents The Riverside Concert with Conch Republic.
LOCATION:Ward Oates Amphitheater in River Side Park.
UID:e.1786.2959
SEQUENCE:3
DTSTAMP:20260426T040503Z
URL:https://members.frankfortky.info/events/details/riverside-concert-2959
END:VEVENT

END:VCALENDAR
