BEGIN:VCALENDAR
VERSION:2.0
PRODID:-//ChamberMaster//Event Calendar 2.0//EN
METHOD:PUBLISH
X-PUBLISHED-TTL:P3D
REFRESH-INTERVAL:P3D
CALSCALE:GREGORIAN
BEGIN:VEVENT
DTSTART:20260812T160000Z
DTEND:20260812T170000Z
X-MICROSOFT-CDO-ALLDAYEVENT:FALSE
SUMMARY:Rotary Club of Frankfort
DESCRIPTION:
X-ALT-DESC;FMTTYPE=text/html:
LOCATION:Hosted at The American Legion 164 Versailles Road Frankfort\, KY 40601
UID:e.1786.4687
SEQUENCE:3
DTSTAMP:20260419T120717Z
URL:https://members.frankfortky.info/events/details/rotary-club-of-frankfort-08-12-2026-4687
END:VEVENT

END:VCALENDAR
