BEGIN:VCALENDAR
VERSION:2.0
PRODID:-//ChamberMaster//Event Calendar 2.0//EN
METHOD:PUBLISH
X-PUBLISHED-TTL:P3D
REFRESH-INTERVAL:P3D
CALSCALE:GREGORIAN
BEGIN:VEVENT
DTSTART:20200111T180000Z
DTEND:20200111T210000Z
X-MICROSOFT-CDO-ALLDAYEVENT:FALSE
SUMMARY:Say It With Thread: Creating Original Hand Embroidery Designs
DESCRIPTION:You've got things to say   why not stitch them? Join us for a cozy afternoon exploring the ways that Kentuckians have used needlework to express creativity\, emotion\, and humor. Participants will go behind the scenes at KHS to view examples of historic needlework up close and hear the stories of their creators. Then we'll learn some basic stitches used to create lettering and other design elements. Finally\, let your creativity run wild as you create your own needlework design\, inspired by history! All materials will be provided\, along with hot cocoa and cookies! Beginners welcome! For ages 18+\, but those ages 13-17 are welcome when accompanied by an adult. Registration and prepayment are required no later than three days before the class and space is limited. Call 502-782-8118 or email KHSeducation@ky.gov Workshops begin by checking in at the front desk of the Thomas D. Clark Center for Kentucky History.
X-ALT-DESC;FMTTYPE=text/html:You&rsquo\;ve got things to say &ndash\; why not stitch them? Join us for a cozy afternoon exploring the ways that Kentuckians have used needlework to express creativity\, emotion\, and humor. Participants will go behind the scenes at KHS to view examples of historic needlework up close and hear the stories of their creators. Then we&rsquo\;ll learn some basic stitches used to create lettering and other design elements. Finally\, let your creativity run wild as you create your own needlework design\, inspired by history! All materials will be provided\, along with hot cocoa and cookies! Beginners welcome! For ages 18+\, but those ages 13-17 are welcome when accompanied by an adult. Registration and prepayment are required no later than three days before the class and space is limited. Call 502-782-8118 or email KHSeducation@ky.gov Workshops begin by checking in at the front desk of the Thomas D. Clark Center for Kentucky History.
LOCATION:Thomas D. Clark Center for Kentucky History 100 W Broadway St.\, Frankfort
UID:e.1786.3340
SEQUENCE:3
DTSTAMP:20260424T224109Z
URL:https://members.frankfortky.info/events/details/say-it-with-thread-creating-original-hand-embroidery-designs-3340
END:VEVENT

END:VCALENDAR
