BEGIN:VCALENDAR
VERSION:2.0
PRODID:-//ChamberMaster//Event Calendar 2.0//EN
METHOD:PUBLISH
X-PUBLISHED-TTL:P3D
REFRESH-INTERVAL:P3D
CALSCALE:GREGORIAN
BEGIN:VEVENT
DTSTART:20220618T140000Z
DTEND:20220618T170000Z
X-MICROSOFT-CDO-ALLDAYEVENT:FALSE
SUMMARY:Scavenger Hunt
DESCRIPTION:Celebrate Juneteenth in Frankfort with a Scavenger Hunt.\n\nCounty-wide scavenger hung with $500 prize for winning team. Bouncy houses\, face-painting\, food and more. Fun for the whole family
X-ALT-DESC;FMTTYPE=text/html:Celebrate Juneteenth in Frankfort with a Scavenger Hunt.<br />\nCounty-wide scavenger hung with $500 prize for winning team. Bouncy houses\, face-painting\, food and more. Fun for the whole family
LOCATION:Lakeview Park 112 Park Avenue
UID:e.1786.3932
SEQUENCE:3
DTSTAMP:20260422T190619Z
URL:https://members.frankfortky.info/events/details/scavenger-hunt-3932
END:VEVENT

END:VCALENDAR
