BEGIN:VCALENDAR
VERSION:2.0
PRODID:-//ChamberMaster//Event Calendar 2.0//EN
METHOD:PUBLISH
X-PUBLISHED-TTL:P3D
REFRESH-INTERVAL:P3D
CALSCALE:GREGORIAN
BEGIN:VEVENT
DTSTART:20181006T183000Z
DTEND:20181006T193000Z
X-MICROSOFT-CDO-ALLDAYEVENT:FALSE
SUMMARY:Serpent Saturday
DESCRIPTION:The education staff will have an assortment of reptiles on display\, giving visitors the opportunity to view and learn something new about these fascinationg and often misundertood animals. Have you ever wondered what kind of snake is living in your gardern\, or what a snake feels like to the touch? Now's your chance to find out!
X-ALT-DESC;FMTTYPE=text/html:The education staff will have an assortment of reptiles on display\, giving visitors the opportunity to view and learn something new about these fascinationg and often misundertood animals. Have you ever wondered what kind of snake is living in your gardern\, or what a snake feels like to the touch? Now&#39\;s your chance to find out!
LOCATION:Salato Wildlife Education Center 1 Sportsman's Lane Frankfort\, KY 40601
UID:e.1786.3043
SEQUENCE:3
DTSTAMP:20260425T232609Z
URL:https://members.frankfortky.info/events/details/serpent-saturday-3043
END:VEVENT

END:VCALENDAR
