BEGIN:VCALENDAR
VERSION:2.0
PRODID:-//ChamberMaster//Event Calendar 2.0//EN
METHOD:PUBLISH
X-PUBLISHED-TTL:P3D
REFRESH-INTERVAL:P3D
CALSCALE:GREGORIAN
BEGIN:VEVENT
DTSTART:20200314T150000Z
DTEND:20200314T160000Z
X-MICROSOFT-CDO-ALLDAYEVENT:FALSE
SUMMARY:Shaping the KY Landscape
DESCRIPTION:Through the lens of Paul Sawyier\, a watercolor artist from Frankfort\, learn about the landscape of Kentucky. Further explore the state's geography and create a topographic map using molding dough for physical features. Finish this unique canvas with watercolor paints to highlight the hues of nature. Instructor: Megan Sauter Cost: Pre-register for the special price of $5 per child plus one parent. Regular museum admission applies to walk-ins. Free for KHS members.
X-ALT-DESC;FMTTYPE=text/html:Through the lens of Paul Sawyier\, a watercolor artist from Frankfort\, learn about the landscape of Kentucky. Further explore the state&rsquo\;s geography and create a topographic map using molding dough for physical features. Finish this unique canvas with watercolor paints to highlight the hues of nature. Instructor: Megan Sauter Cost: Pre-register for the special price of $5 per child plus one parent. Regular museum admission applies to walk-ins. Free for KHS members.
LOCATION:Thomas D. Clark Center for Kentucky History
UID:e.1786.3499
SEQUENCE:3
DTSTAMP:20260424T192226Z
URL:https://members.frankfortky.info/events/details/shaping-the-ky-landscape-3499
END:VEVENT

END:VCALENDAR
