BEGIN:VCALENDAR
VERSION:2.0
PRODID:-//ChamberMaster//Event Calendar 2.0//EN
METHOD:PUBLISH
X-PUBLISHED-TTL:P3D
REFRESH-INTERVAL:P3D
CALSCALE:GREGORIAN
BEGIN:VEVENT
DTSTART:20190419T140000Z
DTEND:20190419T180000Z
X-MICROSOFT-CDO-ALLDAYEVENT:FALSE
SUMMARY:Shred Day at Commonwealth Credit Union
DESCRIPTION:COMMONWEALTH CREDIT UNION ANNOUNCES COMMUNITY SHRED DAY Friday\, April 19th 10:00AM-2:00PM- 1425 Louisville Road Branch\, Frankfort Frankfort Ky. - Commonwealth Credit Union is pleased to announce that we will be teaming up with Shred It and local law enforcement to host "Spring Community Shred Day". As a financial institution\, we believe that security is non-negotiable. Therefore\, we offer our Community Shred Day to our members and the general public to safely dispose of any old and un-needed financial or personal records. Please limit to 5 "storage" boxes per vehicle. Business records will not be accepted for shredding. During this event\, we ask participants to donate non-perishable food items to the Backpack Snack Program of Franklin County.
X-ALT-DESC;FMTTYPE=text/html:COMMONWEALTH CREDIT UNION ANNOUNCES COMMUNITY SHRED DAY Friday\, April 19th 10:00AM-2:00PM- 1425 Louisville Road Branch\, Frankfort Frankfort Ky. - Commonwealth Credit Union is pleased to announce that we will be teaming up with Shred It and local law enforcement to host &ldquo\;Spring Community Shred Day&rdquo\;. As a financial institution\, we believe that security is non-negotiable. Therefore\, we offer our Community Shred Day to our members and the general public to safely dispose of any old and un-needed financial or personal records. Please limit to 5 &ldquo\;storage&rdquo\; boxes per vehicle. Business records will not be accepted for shredding. During this event\, we ask participants to donate non-perishable food items to the Backpack Snack Program of Franklin County.
LOCATION:1425 Louisville Rd. Frankfort\, KY 40601
UID:e.1786.3090
SEQUENCE:3
DTSTAMP:20260425T133331Z
URL:https://members.frankfortky.info/events/details/shred-day-at-commonwealth-credit-union-3090
END:VEVENT

END:VCALENDAR
