BEGIN:VCALENDAR
VERSION:2.0
PRODID:-//ChamberMaster//Event Calendar 2.0//EN
METHOD:PUBLISH
X-PUBLISHED-TTL:P3D
REFRESH-INTERVAL:P3D
CALSCALE:GREGORIAN
BEGIN:VEVENT
DTSTART:20190215T230000Z
DTEND:20190216T020000Z
X-MICROSOFT-CDO-ALLDAYEVENT:FALSE
SUMMARY:Simon House Murder Mystery
DESCRIPTION:2019 Dinner and Interactive Murder Mystery\n\n\n	\n		\n			\n			\n			A Murderous Match Game\n\n			performed by\n\n			Murder and Merriment\n\n			Remember the hit daytime TV game show\, "Match Game?" Step back in time with this hilarious rendition featuring celebrities you loved back in the early 1970s? It's murder with side splitting laughts?\n			\n			\n			\n			\n			Those who can help us solve "Who dunnit?" will compete to win a valuable prize?\n\n			 \n\n			All proceeds benefit Simon House\n\n			providing services to homeless women with children and other low-income clients\n			\n			\n		\n	\n\n\nTickets??  Contact\n\nSimon House\n\n208 W. Campbell Street\n\nFrankfort\, KY\n\n(502) 223-2138
X-ALT-DESC;FMTTYPE=text/html:<h2 align="center" style="font-size: 1.6em\; margin: 30px 0px 0px\; color: rgb(0\, 0\, 0)\; font-family: Arial\, Helvetica\, sans-serif\; font-style: normal\; font-variant-ligatures: normal\; font-variant-caps: normal\; letter-spacing: normal\; orphans: 2\; text-indent: 0px\; text-transform: none\; white-space: normal\; widows: 2\; word-spacing: 0px\; -webkit-text-stroke-width: 0px\; background-color: rgb(255\, 255\, 204)\; text-decoration-style: initial\; text-decoration-color: initial\;">2019 Dinner and Interactive Murder Mystery</h2>\n\n<table border="0" style="color: rgb(0\, 0\, 0)\; font-family: Arial\, Helvetica\, sans-serif\; font-size: 12.8px\; font-style: normal\; font-variant-ligatures: normal\; font-variant-caps: normal\; font-weight: 400\; letter-spacing: normal\; orphans: 2\; text-align: start\; text-indent: 0px\; text-transform: none\; white-space: normal\; widows: 2\; word-spacing: 0px\; -webkit-text-stroke-width: 0px\; background-color: rgb(255\, 255\, 204)\; text-decoration-style: initial\; text-decoration-color: initial\;" width="497">\n	<tbody>\n		<tr valign="top">\n			<td width="241">\n			<div align="center">\n			<h2 style="font-size: 1.6em\; margin: 30px 0px 0px\;">A Murderous Match Game</h2>\n\n			<p style="margin: 12px 0px\;">performed by</p>\n\n			<h3 style="font-size: 1.25em\; margin: 30px 0px 0px\;">Murder and Merriment</h3>\n\n			<p style="margin: 12px 0px\;">Remember the hit daytime TV game show\, &quot\;Match Game?&quot\; Step back in time with this hilarious rendition featuring celebrities you loved back in the early 1970s? It&#39\;s murder with side splitting laughts?</p>\n			</div>\n			</td>\n			<td width="240">\n			<div align="center">\n			<h4 style="font-size: 1.1em\; margin: 20px 0px 0px\;">Those who can help us solve &quot\;Who dunnit?&quot\; will compete to win a valuable prize?</h4>\n\n			<p style="margin: 12px 0px\;">&nbsp\;</p>\n\n			<h4 style="font-size: 1.1em\; margin: 20px 0px 0px\;">All proceeds benefit Simon House</h4>\n\n			<p style="margin: 12px 0px\;">providing services to homeless women with children and other low-income clients</p>\n			</div>\n			</td>\n		</tr>\n	</tbody>\n</table>\n\n<h3 align="center" style="font-size: 1.25em\; margin: 30px 0px 0px\; color: rgb(0\, 0\, 0)\; font-family: Arial\, Helvetica\, sans-serif\; font-style: normal\; font-variant-ligatures: normal\; font-variant-caps: normal\; letter-spacing: normal\; orphans: 2\; text-indent: 0px\; text-transform: none\; white-space: normal\; widows: 2\; word-spacing: 0px\; -webkit-text-stroke-width: 0px\; background-color: rgb(255\, 255\, 204)\; text-decoration-style: initial\; text-decoration-color: initial\;">Tickets??&nbsp\; Contact<br />\n<span style="font-weight: bold\;">Simon House</span></h3>\n\n<p align="center" style="margin: 12px 0px\; color: rgb(0\, 0\, 0)\; font-family: Arial\, Helvetica\, sans-serif\; font-size: 12.8px\; font-style: normal\; font-variant-ligatures: normal\; font-variant-caps: normal\; font-weight: 400\; letter-spacing: normal\; orphans: 2\; text-indent: 0px\; text-transform: none\; white-space: normal\; widows: 2\; word-spacing: 0px\; -webkit-text-stroke-width: 0px\; background-color: rgb(255\, 255\, 204)\; text-decoration-style: initial\; text-decoration-color: initial\;">208 W. Campbell Street<br />\nFrankfort\, KY<br />\n(502) 223-2138</p>\n
LOCATION:Church of the Ascension Parish Hall 311 Washington Street Frankfort\, KY
UID:e.1786.3072
SEQUENCE:3
DTSTAMP:20260425T163913Z
URL:https://members.frankfortky.info/events/details/simon-house-murder-mystery-3072
END:VEVENT

END:VCALENDAR
