BEGIN:VCALENDAR
VERSION:2.0
PRODID:-//ChamberMaster//Event Calendar 2.0//EN
METHOD:PUBLISH
X-PUBLISHED-TTL:P3D
REFRESH-INTERVAL:P3D
CALSCALE:GREGORIAN
BEGIN:VEVENT
DTSTART:20240907T130000Z
DTEND:20240907T180000Z
X-MICROSOFT-CDO-ALLDAYEVENT:FALSE
SUMMARY:Simon House's 2nd Annual Resource Fair
DESCRIPTION:Simon House has partnered with many different organizations and agencies to put on their 2nd Annual Resource Fair. Everything is free to attendees and vendors. Last year we had over 250 attendees. We will have free resources\, activities\, food and much more! Bring the whole family for a day full of fun and valuable information.
X-ALT-DESC;FMTTYPE=text/html:Simon House has partnered with many different organizations and agencies to put on their 2nd Annual Resource Fair. Everything is free to attendees and vendors. Last year we had over 250 attendees. We will have free resources\, activities\, food and much more! Bring the whole family for a day full of fun and valuable information.
LOCATION:Church of Ascension 311 Washington St. Frankfort\, KY 40601
UID:e.1786.5475
SEQUENCE:3
DTSTAMP:20260419T150720Z
URL:https://members.frankfortky.info/events/details/simon-house-s-2nd-annual-resource-fair-5475
END:VEVENT

END:VCALENDAR
